BEGIN:VCALENDAR
PRODID:-//Google Inc//Google Calendar 70.9054//EN
VERSION:2.0
CALSCALE:GREGORIAN
METHOD:PUBLISH
X-WR-CALNAME:Gymnastikraum
X-WR-TIMEZONE:Europe/Vienna
BEGIN:VTIMEZONE
TZID:Europe/Vienna
X-LIC-LOCATION:Europe/Vienna
BEGIN:DAYLIGHT
TZOFFSETFROM:+0100
TZOFFSETTO:+0200
TZNAME:GMT+2
DTSTART:19700329T020000
RRULE:FREQ=YEARLY;BYMONTH=3;BYDAY=-1SU
END:DAYLIGHT
BEGIN:STANDARD
TZOFFSETFROM:+0200
TZOFFSETTO:+0100
TZNAME:GMT+1
DTSTART:19701025T030000
RRULE:FREQ=YEARLY;BYMONTH=10;BYDAY=-1SU
END:STANDARD
END:VTIMEZONE
BEGIN:VEVENT
DTSTART;TZID=Europe/Vienna:20230913T190000
DTEND;TZID=Europe/Vienna:20230913T210000
RRULE:FREQ=WEEKLY;WKST=MO;UNTIL=20240908T215959Z;BYDAY=WE
DTSTAMP:20260421T114728Z
UID:1231kgi4ojrq4mm41jpg1op86n@google.com
CREATED:20231007T085141Z
DESCRIPTION:10 Personen
LAST-MODIFIED:20231007T085141Z
LOCATION:Tanzraum\, MS Wolfurt
SEQUENCE:0
STATUS:CONFIRMED
SUMMARY:JAM (E. Degasperi)
TRANSP:OPAQUE
END:VEVENT
BEGIN:VEVENT
DTSTART;TZID=Europe/Vienna:20180212T173000
DTEND;TZID=Europe/Vienna:20180212T181500
RRULE:FREQ=WEEKLY;UNTIL=20180909T215959Z;BYDAY=MO
DTSTAMP:20260421T114728Z
UID:7nv6e76aqjho04tl143tjrogsr@google.com
CREATED:20180220T090200Z
DESCRIPTION:Emanuel Köb
LAST-MODIFIED:20180916T161415Z
LOCATION:Bewegungsraum Mittelschule Wolfurt
SEQUENCE:0
STATUS:CONFIRMED
SUMMARY:TeamTurnen Jugend 2 W
TRANSP:OPAQUE
END:VEVENT
BEGIN:VEVENT
DTSTART;TZID=Europe/Vienna:20250908T190000
DTEND;TZID=Europe/Vienna:20250908T203000
RRULE:FREQ=WEEKLY;WKST=MO;UNTIL=20260920T215959Z;BYDAY=MO
DTSTAMP:20260421T114728Z
UID:1h8062bkohhdn8osfhrn5lq08l@google.com
CREATED:20251109T164301Z
LAST-MODIFIED:20251109T164301Z
LOCATION:kleine Halle MS Wolfurt
SEQUENCE:0
STATUS:CONFIRMED
SUMMARY:Yoga (U. Winsauer)
TRANSP:OPAQUE
END:VEVENT
BEGIN:VEVENT
DTSTART;TZID=Europe/Vienna:20180409T164500
DTEND;TZID=Europe/Vienna:20180409T173000
RRULE:FREQ=WEEKLY;UNTIL=20180909T215959Z;BYDAY=MO
DTSTAMP:20260421T114728Z
UID:5b42urhclpqca1p80ekjigri41_R20180409T144500@google.com
CREATED:20180220T090411Z
DESCRIPTION:Claudia Laritz
LAST-MODIFIED:20180916T161404Z
LOCATION:Bewegungsraum Mittelschule Wolfurt
SEQUENCE:0
STATUS:CONFIRMED
SUMMARY:TeamTurnen Jugend 1 W
TRANSP:OPAQUE
END:VEVENT
BEGIN:VEVENT
DTSTART;TZID=Europe/Vienna:20190916T190000
DTEND;TZID=Europe/Vienna:20190916T200000
RRULE:FREQ=WEEKLY;WKST=MO;UNTIL=20200913T215959Z;BYDAY=MO
EXDATE;TZID=Europe/Vienna:20191223T190000
DTSTAMP:20260421T114728Z
UID:14668vbgvugskobp4lsa1hs884@google.com
CREATED:20190915T165404Z
DESCRIPTION:U. Winsauer
LAST-MODIFIED:20191109T104706Z
LOCATION:Gymnastikraum\, MS Wolfurt
SEQUENCE:1
STATUS:CONFIRMED
SUMMARY:Yoga
TRANSP:OPAQUE
END:VEVENT
BEGIN:VEVENT
DTSTART;TZID=Europe/Vienna:20180214T180000
DTEND;TZID=Europe/Vienna:20180214T183000
RRULE:FREQ=WEEKLY;UNTIL=20180911T215959Z;BYDAY=WE
DTSTAMP:20260421T114728Z
UID:5vkf3u8ngaa75fl6tarv87phlt@google.com
CREATED:20180220T095418Z
DESCRIPTION:Emanuel Köb
LAST-MODIFIED:20180916T161557Z
LOCATION:Bewegungsraum Mittelschule Wolfurt
SEQUENCE:0
STATUS:CONFIRMED
SUMMARY:TeamTurnen Jugend 2 W
TRANSP:OPAQUE
END:VEVENT
BEGIN:VEVENT
DTSTART:20191220T180000Z
DTEND:20191220T200000Z
DTSTAMP:20260421T114728Z
UID:4v670l5bgor2jspa1tivtvcmfi@google.com
CREATED:20191218T080607Z
LAST-MODIFIED:20191218T080616Z
SEQUENCE:0
STATUS:CONFIRMED
SUMMARY:Teamturnen (Jun 1 W)
TRANSP:OPAQUE
END:VEVENT
BEGIN:VEVENT
DTSTART;TZID=Europe/Vienna:20180213T190000
DTEND;TZID=Europe/Vienna:20180213T210000
RRULE:FREQ=WEEKLY;UNTIL=20180910T215959Z;BYDAY=TU
DTSTAMP:20260421T114728Z
UID:5v36a5r7hsp85lad94ga0j7e4n@google.com
CREATED:20180220T093251Z
DESCRIPTION:Johannes Rinke
LAST-MODIFIED:20180916T161501Z
LOCATION:Bewegungsraum Mittelschule Wolfurt
SEQUENCE:0
STATUS:CONFIRMED
SUMMARY:TeamTurn 10
TRANSP:OPAQUE
END:VEVENT
BEGIN:VEVENT
DTSTART:20190909T170000Z
DTEND:20190909T180000Z
DTSTAMP:20260421T114728Z
UID:7042q7dvsuahe3sq3rn9va3iu1@google.com
CREATED:20190826T155421Z
LAST-MODIFIED:20190915T155559Z
SEQUENCE:1
STATUS:CONFIRMED
SUMMARY:Kneippverein
TRANSP:OPAQUE
END:VEVENT
BEGIN:VEVENT
DTSTART;TZID=Europe/Vienna:20250910T190000
DTEND;TZID=Europe/Vienna:20250910T210000
RRULE:FREQ=WEEKLY;WKST=MO;UNTIL=20260920T215959Z;BYDAY=WE
DTSTAMP:20260421T114728Z
UID:0laloq0dlhe327h44qvnd9tkpc@google.com
CREATED:20251109T164532Z
LAST-MODIFIED:20251109T164532Z
LOCATION:Gymnastikraum
SEQUENCE:0
STATUS:CONFIRMED
SUMMARY:JAM (E. Degasperi)
TRANSP:OPAQUE
END:VEVENT
BEGIN:VEVENT
DTSTART;TZID=Europe/Vienna:20230911T190000
DTEND;TZID=Europe/Vienna:20230911T200000
RRULE:FREQ=WEEKLY;WKST=MO;UNTIL=20240908T215959Z;BYDAY=MO
DTSTAMP:20260421T114728Z
UID:5kk1ri8qgveilp48i6govhd3hc@google.com
CREATED:20231012T052005Z
LAST-MODIFIED:20231012T052005Z
LOCATION:Tanzraum MS Wolfurt
SEQUENCE:0
STATUS:CONFIRMED
SUMMARY:Yoga (U. Winsauer)
TRANSP:OPAQUE
END:VEVENT
BEGIN:VEVENT
DTSTART:20200917T173000Z
DTEND:20200917T193000Z
DTSTAMP:20260421T114728Z
UID:6p5dks9oebcvl51cbf6iiv5f52@google.com
CREATED:20201206T155017Z
DESCRIPTION:Sarah Raid
LAST-MODIFIED:20201206T155017Z
LOCATION:Tanzsaal
SEQUENCE:0
STATUS:CONFIRMED
SUMMARY:Gymnastikgruppe
TRANSP:OPAQUE
END:VEVENT
BEGIN:VEVENT
DTSTART;TZID=Europe/Vienna:20180212T181500
DTEND;TZID=Europe/Vienna:20180212T190000
RRULE:FREQ=WEEKLY;UNTIL=20180909T215959Z;BYDAY=MO
DTSTAMP:20260421T114728Z
UID:00u62jemg1emedo4ebaeetq57m@google.com
CREATED:20180220T091142Z
DESCRIPTION:Emanuel Köb
LAST-MODIFIED:20180916T161420Z
LOCATION:Bewegungsraum Mittelschule Wolfurt
SEQUENCE:0
STATUS:CONFIRMED
SUMMARY:TeamTurnen Jugend 2 M
TRANSP:OPAQUE
END:VEVENT
BEGIN:VEVENT
DTSTART;TZID=Europe/Vienna:20241127T190000
DTEND;TZID=Europe/Vienna:20241127T210000
RRULE:FREQ=WEEKLY;WKST=MO;UNTIL=20250903T215959Z;BYDAY=WE
DTSTAMP:20260421T114728Z
UID:7il1u9vvkm6h9im86cvui8d0un@google.com
CREATED:20241125T070850Z
LAST-MODIFIED:20241125T070850Z
LOCATION:Tanzraum
SEQUENCE:0
STATUS:CONFIRMED
SUMMARY:JAM (Jazz-Akrobatik-Modern\, E. Degasperi)
TRANSP:OPAQUE
END:VEVENT
BEGIN:VEVENT
DTSTART;TZID=Europe/Vienna:20250911T190000
DTEND;TZID=Europe/Vienna:20250911T203000
RRULE:FREQ=WEEKLY;WKST=MO;UNTIL=20260920T215959Z;BYDAY=TH
DTSTAMP:20260421T114728Z
UID:6m1i84jeuj5qcupej39rgp8oof@google.com
CREATED:20251109T164653Z
LAST-MODIFIED:20251109T164653Z
LOCATION:Gymnastikraum
SEQUENCE:0
STATUS:CONFIRMED
SUMMARY:Workout (U. Gratt)
TRANSP:OPAQUE
END:VEVENT
BEGIN:VEVENT
DTSTART:20190909T170000Z
DTEND:20190909T174500Z
DTSTAMP:20260421T114728Z
UID:040000008200E00074C5B7101A82E008000000005891ACCD345CD501000000000000000
 010000000B882DA9D1769144C85CF038C0E257983
CREATED:20190826T173634Z
DESCRIPTION:Uli Winsauer
LAST-MODIFIED:20190915T155631Z
LOCATION:Gymnastikraum
SEQUENCE:2
STATUS:CONFIRMED
SUMMARY:Yoga
TRANSP:OPAQUE
END:VEVENT
BEGIN:VEVENT
DTSTART;TZID=Europe/Vienna:20180216T170000
DTEND;TZID=Europe/Vienna:20180216T173000
RRULE:FREQ=WEEKLY;UNTIL=20180913T215959Z;BYDAY=FR
DTSTAMP:20260421T114728Z
UID:74l05gepedi3qbba3rmnbag89m@google.com
CREATED:20180220T101836Z
DESCRIPTION:Andreas Schedler
LAST-MODIFIED:20180916T161723Z
LOCATION:Bewegungsraum Mittelschule Wolfurt
SEQUENCE:0
STATUS:CONFIRMED
SUMMARY:Kunstturnen M
TRANSP:OPAQUE
END:VEVENT
BEGIN:VEVENT
DTSTART;TZID=Europe/Vienna:20180212T164500
DTEND;TZID=Europe/Vienna:20180212T173000
RRULE:FREQ=WEEKLY;UNTIL=20180408T215959Z;BYDAY=MO
DTSTAMP:20260421T114728Z
UID:5b42urhclpqca1p80ekjigri41@google.com
CREATED:20180220T090411Z
DESCRIPTION:Claudia Lariz
LAST-MODIFIED:20180916T161404Z
LOCATION:Bewegungsraum Mittelschule Wolfurt
SEQUENCE:0
STATUS:CONFIRMED
SUMMARY:TeamTurnen Jugend 1 W
TRANSP:OPAQUE
END:VEVENT
BEGIN:VEVENT
DTSTART;TZID=Europe/Vienna:20180917T190000
DTEND;TZID=Europe/Vienna:20180917T200000
RRULE:FREQ=WEEKLY;UNTIL=20190701T215959Z;BYDAY=MO
DTSTAMP:20260421T114728Z
UID:5jfn33fg7deoo49dqsend7irgu@google.com
CREATED:20180916T193434Z
LAST-MODIFIED:20180916T193434Z
SEQUENCE:0
STATUS:CONFIRMED
SUMMARY:Kneippverein
TRANSP:OPAQUE
END:VEVENT
BEGIN:VEVENT
DTSTART;TZID=Europe/Vienna:20180213T190000
DTEND;TZID=Europe/Vienna:20180213T210000
RRULE:FREQ=WEEKLY;UNTIL=20180910T215959Z;BYDAY=TU
DTSTAMP:20260421T114728Z
UID:4nv51nai2u0brihluuih3a6klq@google.com
CREATED:20180220T093157Z
DESCRIPTION:Caro Dunst
LAST-MODIFIED:20180916T161506Z
LOCATION:Bewegungsraum Mittelschule Wolfurt
SEQUENCE:0
STATUS:CONFIRMED
SUMMARY:TeamTurnen Jugend 1
TRANSP:OPAQUE
END:VEVENT
BEGIN:VEVENT
DTSTART;TZID=Europe/Vienna:20241119T200000
DTEND;TZID=Europe/Vienna:20241119T210000
RRULE:FREQ=WEEKLY;WKST=MO;UNTIL=20250907T215959Z;BYDAY=TU
DTSTAMP:20260421T114728Z
UID:6nh0inbv081sec3gsogjb1lb9d@google.com
CREATED:20241128T102504Z
LAST-MODIFIED:20241128T102504Z
SEQUENCE:0
STATUS:CONFIRMED
SUMMARY:Altherren (M. Reis)
TRANSP:OPAQUE
END:VEVENT
BEGIN:VEVENT
DTSTART;TZID=Europe/Vienna:20260323T180000
DTEND;TZID=Europe/Vienna:20260323T190000
RRULE:FREQ=WEEKLY;WKST=MO;UNTIL=20260706T215959Z;BYDAY=MO
DTSTAMP:20260421T114728Z
UID:0ut8i71n7hjpc7hiof5l8bjm1r@google.com
CREATED:20260322T144830Z
LAST-MODIFIED:20260322T144831Z
SEQUENCE:0
STATUS:CONFIRMED
SUMMARY:Yoga (U. Winsauer)
TRANSP:OPAQUE
END:VEVENT
BEGIN:VEVENT
DTSTART;TZID=Europe/Vienna:20231012T190000
DTEND;TZID=Europe/Vienna:20231012T203000
RRULE:FREQ=WEEKLY;WKST=MO;UNTIL=20240908T215959Z;BYDAY=TH
DTSTAMP:20260421T114728Z
UID:4t3tq4h31qdb8h0j86a6v67jje@google.com
CREATED:20231007T143549Z
DESCRIPTION:10 Personen
LAST-MODIFIED:20231020T073548Z
LOCATION:Tanzraum MS Wolfurt
SEQUENCE:0
STATUS:CONFIRMED
SUMMARY:Fitness-Workout (U. Gratt)
TRANSP:OPAQUE
END:VEVENT
BEGIN:VEVENT
DTSTART;TZID=Europe/Vienna:20190919T190000
DTEND;TZID=Europe/Vienna:20190919T220000
RRULE:FREQ=WEEKLY;WKST=MO;UNTIL=20200913T215959Z;BYDAY=TH
EXDATE;TZID=Europe/Vienna:20191226T190000
DTSTAMP:20260421T114728Z
UID:17i9ude6au3p3v6ltth8nql664@google.com
CREATED:20190915T185744Z
DESCRIPTION:S. Raid
LAST-MODIFIED:20200727T114757Z
LOCATION:Gymnastikraum\, MS Wolfurt
SEQUENCE:0
STATUS:CONFIRMED
SUMMARY:Krafttraining
TRANSP:OPAQUE
END:VEVENT
BEGIN:VEVENT
DTSTART;TZID=Europe/Vienna:20241121T190000
DTEND;TZID=Europe/Vienna:20241121T203000
RRULE:FREQ=WEEKLY;WKST=MO;UNTIL=20250907T215959Z;BYDAY=TH
DTSTAMP:20260421T114728Z
UID:64po9dg8b5vg6skajpaifj47na@google.com
CREATED:20241117T191456Z
LAST-MODIFIED:20241127T202725Z
LOCATION:Tanzraum
SEQUENCE:0
STATUS:CONFIRMED
SUMMARY:Workout (U. Gratt)
TRANSP:OPAQUE
END:VEVENT
BEGIN:VEVENT
DTSTART:20191226T180000Z
DTEND:20191226T200000Z
DTSTAMP:20260421T114728Z
UID:620pnkuq6t29ocvimjvspavoae@google.com
CREATED:20191217T183722Z
DESCRIPTION:S. Raid
LAST-MODIFIED:20191217T183722Z
LOCATION:Tanzraum
SEQUENCE:0
STATUS:CONFIRMED
SUMMARY:Krafttraining
TRANSP:OPAQUE
END:VEVENT
BEGIN:VEVENT
DTSTART;TZID=Europe/Vienna:20241125T190000
DTEND;TZID=Europe/Vienna:20241125T203000
RRULE:FREQ=WEEKLY;WKST=MO;UNTIL=20250901T215959Z;BYDAY=MO
DTSTAMP:20260421T114728Z
UID:2s8ab57b2nuhluraq5oc769rgv@google.com
CREATED:20241125T070940Z
LAST-MODIFIED:20241125T072241Z
SEQUENCE:0
STATUS:CONFIRMED
SUMMARY:Yoga (U. Winsauer)
TRANSP:OPAQUE
END:VEVENT
END:VCALENDAR
